Workbook

Sheet Instrucciones 
A2: A continuación, encontrarás dos planillas. La pestaña "Logro a nota " tiene por objetivo pasar de una escala de apreciación de logro , a porcentaje y posteriormente a nota. La pestaña "Porcentaje a nota"tiene por objetivo pasar de un promedio de porcentajes evaluativos a nota , para así facilitar su gestión evaluativa, esto según la escala otorgada por el Ministerio de Educación en el Cuadernillo de Orientaciones de Evaluación 2020
A7: En ambas encontrarás casillas para ingresar sus datos: Escuela, Curso y Año
A15: Vaciar el listado de curso y apoderados
C32: Palabra clave o fecha sobre la evaluación a registrar , ejemplo:
A45: En la planilla de "Logro a Nota" encontrarás espacio para vaciar el listado de su curso y apoderados, para luego registrar por cada Evaluación con un "1" los estudiantes que se observó aprendizajes por lograr , "2" , aprendizajes medianamente logrado y con un "3" los aprendizajes logrados.
G69: Se actualizarán los promedios, porcentajes de progreso y notas automáticamente en las columnas finales de la tabla, según esta tabla de equivalencia :
A81: En la pestaña "Porcentaje a nota " encontrarán espacio para vaciar el listado de su curso y apoderados, para luego registrar por cada Evaluación con un porcentaje los aprendizajes logrados.
F98: Se actualizarán los promedios de porcentajes y nota automáticamente en las columnas finales de la tabla, según esta tabla de equivalencia :

Sheet Logro a notas
B2: Escuela: | D2: Escala de apreciación: | M2: 1 pts: Por Lograr | T2: 2 pts: Medianamente Logrado | AA2: 3pts: Logrado
B3: Curso:
B4: Año:
B6: Nombre del alumno | C6: Apoderado | D6: Ejemplo1 | E6: Ejemplo2 | F6: Ejemplo3 | G6: Ejemplo4 | H6: Ejemplo5 | AS6: Promedio Puntaje | AT6: % de Progreso | AU6: Equivalencia Nota
A8: 1 | B8: Juan Muñoz | C8: Gloria | D8: 1 | E8: 2 | F8: 3 | G8: 3 | H8: 2 | AS8: =IFERROR(AVERAGE(D8:AR8),0) -> 2.2 | AT8: =VLOOKUP(AS8,'Tablas de equivalencia '!$B$3:$C$9,2,TRUE) -> 0.5 | AU8: =+VLOOKUP(AT8,'Tablas de equivalencia '!$C$3:$D$9,2,TRUE) -> 4
A9: 2 | AS9: =IFERROR(AVERAGE(D9:AR9),0) -> 0 | AT9: =VLOOKUP(AS9,'Tablas de equivalencia '!$B$3:$C$9,2,TRUE) -> 0 | AU9: =+VLOOKUP(AT9,'Tablas de equivalencia '!$C$3:$D$9,2,TRUE) -> 1
A10: 3 | AS10: =IFERROR(AVERAGE(D10:AR10),0) -> 0 | AT10: =VLOOKUP(AS10,'Tablas de equivalencia '!$B$3:$C$9,2,TRUE) -> 0 | AU10: =+VLOOKUP(AT10,'Tablas de equivalencia '!$C$3:$D$9,2,TRUE) -> 1
A11: 4 | AS11: =IFERROR(AVERAGE(D11:AR11),0) -> 0 | AT11: =VLOOKUP(AS11,'Tablas de equivalencia '!$B$3:$C$9,2,TRUE) -> 0 | AU11: =+VLOOKUP(AT11,'Tablas de equivalencia '!$C$3:$D$9,2,TRUE) -> 1
A12: 5 | AS12: =IFERROR(AVERAGE(D12:AR12),0) -> 0 | AT12: =VLOOKUP(AS12,'Tablas de equivalencia '!$B$3:$C$9,2,TRUE) -> 0 | AU12: =+VLOOKUP(AT12,'Tablas de equivalencia '!$C$3:$D$9,2,TRUE) -> 1
A13: 6 | AS13: =IFERROR(AVERAGE(D13:AR13),0) -> 0 | AT13: =VLOOKUP(AS13,'Tablas de equivalencia '!$B$3:$C$9,2,TRUE) -> 0 | AU13: =+VLOOKUP(AT13,'Tablas de equivalencia '!$C$3:$D$9,2,TRUE) -> 1
A14: 7 | AS14: =IFERROR(AVERAGE(D14:AR14),0) -> 0 | AT14: =VLOOKUP(AS14,'Tablas de equivalencia '!$B$3:$C$9,2,TRUE) -> 0 | AU14: =+VLOOKUP(AT14,'Tablas de equivalencia '!$C$3:$D$9,2,TRUE) -> 1
A15: 8 | AS15: =IFERROR(AVERAGE(D15:AR15),0) -> 0 | AT15: =VLOOKUP(AS15,'Tablas de equivalencia '!$B$3:$C$9,2,TRUE) -> 0 | AU15: =+VLOOKUP(AT15,'Tablas de equivalencia '!$C$3:$D$9,2,TRUE) -> 1
A16: 9 | AS16: =IFERROR(AVERAGE(D16:AR16),0) -> 0 | AT16: =VLOOKUP(AS16,'Tablas de equivalencia '!$B$3:$C$9,2,TRUE) -> 0 | AU16: =+VLOOKUP(AT16,'Tablas de equivalencia '!$C$3:$D$9,2,TRUE) -> 1
A17: 10 | AS17: =IFERROR(AVERAGE(D17:AR17),0) -> 0 | AT17: =VLOOKUP(AS17,'Tablas de equivalencia '!$B$3:$C$9,2,TRUE) -> 0 | AU17: =+VLOOKUP(AT17,'Tablas de equivalencia '!$C$3:$D$9,2,TRUE) -> 1
A18: 11 | AS18: =IFERROR(AVERAGE(D18:AR18),0) -> 0 | AT18: =VLOOKUP(AS18,'Tablas de equivalencia '!$B$3:$C$9,2,TRUE) -> 0 | AU18: =+VLOOKUP(AT18,'Tablas de equivalencia '!$C$3:$D$9,2,TRUE) -> 1
A19: 12 | AS19: =IFERROR(AVERAGE(D19:AR19),0) -> 0 | AT19: =VLOOKUP(AS19,'Tablas de equivalencia '!$B$3:$C$9,2,TRUE) -> 0 | AU19: =+VLOOKUP(AT19,'Tablas de equivalencia '!$C$3:$D$9,2,TRUE) -> 1
A20: 13 | AS20: =IFERROR(AVERAGE(D20:AR20),0) -> 0 | AT20: =VLOOKUP(AS20,'Tablas de equivalencia '!$B$3:$C$9,2,TRUE) -> 0 | AU20: =+VLOOKUP(AT20,'Tablas de equivalencia '!$C$3:$D$9,2,TRUE) -> 1
... A47: 40 | AS47: =IFERROR(AVERAGE(D47:AR47),0) -> 0 | AT47: =VLOOKUP(AS47,'Tablas de equivalencia '!$B$3:$C$9,2,TRUE) -> 0 | AU47: =+VLOOKUP(AT47,'Tablas de equivalencia '!$C$3:$D$9,2,TRUE) -> 1

Sheet Porcentaje a nota
B2: Escuela: | D2: Porcentaje de Logro:
B3: Curso:
B4: Año:
B6: Nombre del alumno | C6: Apoderado | D6: Ejemplo1 | E6: Ejemplo2 | F6: Ejemplo3 | G6: Ejemplo4 | H6: Ejemplo5 | AH6: Promedio de % de Progreso | AI6: Equivalencia Nota
A8: 1 | B8: Juan Muñoz | C8: Gloria | D8: 1 | E8: 0.5 | F8: 0.8 | G8: 1 | H8: 0.75 | AH8: =IFERROR(AVERAGE(D8:AG8),0) -> 0.81 | AI8: =+VLOOKUP(AH8,'Tablas de equivalencia '!$B$15:$C$21,2,TRUE) -> 5
A9: 2 | AH9: =IFERROR(AVERAGE(D9:AG9),0) -> 0 | AI9: =+VLOOKUP(AH9,'Tablas de equivalencia '!$B$15:$C$21,2,TRUE) -> 1
A10: 3 | AH10: =IFERROR(AVERAGE(D10:AG10),0) -> 0 | AI10: =+VLOOKUP(AH10,'Tablas de equivalencia '!$B$15:$C$21,2,TRUE) -> 1
A11: 4 | AH11: =IFERROR(AVERAGE(D11:AG11),0) -> 0 | AI11: =+VLOOKUP(AH11,'Tablas de equivalencia '!$B$15:$C$21,2,TRUE) -> 1
A12: 5 | AH12: =IFERROR(AVERAGE(D12:AG12),0) -> 0 | AI12: =+VLOOKUP(AH12,'Tablas de equivalencia '!$B$15:$C$21,2,TRUE) -> 1
A13: 6 | AH13: =IFERROR(AVERAGE(D13:AG13),0) -> 0 | AI13: =+VLOOKUP(AH13,'Tablas de equivalencia '!$B$15:$C$21,2,TRUE) -> 1
A14: 7 | AH14: =IFERROR(AVERAGE(D14:AG14),0) -> 0 | AI14: =+VLOOKUP(AH14,'Tablas de equivalencia '!$B$15:$C$21,2,TRUE) -> 1
A15: 8 | AH15: =IFERROR(AVERAGE(D15:AG15),0) -> 0 | AI15: =+VLOOKUP(AH15,'Tablas de equivalencia '!$B$15:$C$21,2,TRUE) -> 1
A16: 9 | AH16: =IFERROR(AVERAGE(D16:AG16),0) -> 0 | AI16: =+VLOOKUP(AH16,'Tablas de equivalencia '!$B$15:$C$21,2,TRUE) -> 1
A17: 10 | AH17: =IFERROR(AVERAGE(D17:AG17),0) -> 0 | AI17: =+VLOOKUP(AH17,'Tablas de equivalencia '!$B$15:$C$21,2,TRUE) -> 1
A18: 11 | AH18: =IFERROR(AVERAGE(D18:AG18),0) -> 0 | AI18: =+VLOOKUP(AH18,'Tablas de equivalencia '!$B$15:$C$21,2,TRUE) -> 1
A19: 12 | AH19: =IFERROR(AVERAGE(D19:AG19),0) -> 0 | AI19: =+VLOOKUP(AH19,'Tablas de equivalencia '!$B$15:$C$21,2,TRUE) -> 1
A20: 13 | AH20: =IFERROR(AVERAGE(D20:AG20),0) -> 0 | AI20: =+VLOOKUP(AH20,'Tablas de equivalencia '!$B$15:$C$21,2,TRUE) -> 1
... A47: 40 | AH47: =IFERROR(AVERAGE(D47:AG47),0) -> 0 | AI47: =+VLOOKUP(AH47,'Tablas de equivalencia '!$B$15:$C$21,2,TRUE) -> 1

Sheet Tablas de equivalencia 
A1: Tabla de logro a notas
B2: ptje | C2: en % | D2: en notas | F2: Esta pestaña va ocultas
A3: Por Lograr | B3: 0 | C3: 0 | D3: 1
B4: 1 | C4: 0.25 | D4: 2
B5: 1.5 | C5: 0.49 | D5: 3
A6: Madianamente Logrado | B6: 2 | C6: 0.5 | D6: 4
B7: 2.5 | C7: 0.72 | D7: 5
A8: Logrado | B8: 2.75 | C8: 0.85 | D8: 6
B9: 3 | C9: 1 | D9: 7
A12: Tasbla de Porcentaje a notas
A14: DE | B14: Hasta | C14: en notas
B15: 0 | C15: 1
A16: 0.01 | B16: 0.25 | C16: 2
A17: 0.26 | B17: 0.49 | C17: 3
A18: 0.5 | B18: 0.66 | C18: 4
A19: 0.67 | B19: 0.72 | C19: 5
A20: 0.73 | B20: 0.85 | C20: 6
A21: 0.86 | B21: 1 | C21: 7
